BEGIN:VCALENDAR
VERSION:2.0
PRODID:-//New Life Harvest Church - ECPv6.15.20//NONSGML v1.0//EN
CALSCALE:GREGORIAN
METHOD:PUBLISH
X-ORIGINAL-URL:https://newlifeharvestchurch.org
X-WR-CALDESC:Events for New Life Harvest Church
REFRESH-INTERVAL;VALUE=DURATION:PT1H
X-Robots-Tag:noindex
X-PUBLISHED-TTL:PT1H
BEGIN:VTIMEZONE
TZID:America/New_York
BEGIN:DAYLIGHT
TZOFFSETFROM:-0500
TZOFFSETTO:-0400
TZNAME:EDT
DTSTART:20280312T070000
END:DAYLIGHT
BEGIN:STANDARD
TZOFFSETFROM:-0400
TZOFFSETTO:-0500
TZNAME:EST
DTSTART:20281105T060000
END:STANDARD
BEGIN:DAYLIGHT
TZOFFSETFROM:-0500
TZOFFSETTO:-0400
TZNAME:EDT
DTSTART:20290311T070000
END:DAYLIGHT
BEGIN:STANDARD
TZOFFSETFROM:-0400
TZOFFSETTO:-0500
TZNAME:EST
DTSTART:20291104T060000
END:STANDARD
BEGIN:DAYLIGHT
TZOFFSETFROM:-0500
TZOFFSETTO:-0400
TZNAME:EDT
DTSTART:20300310T070000
END:DAYLIGHT
BEGIN:STANDARD
TZOFFSETFROM:-0400
TZOFFSETTO:-0500
TZNAME:EST
DTSTART:20301103T060000
END:STANDARD
BEGIN:DAYLIGHT
TZOFFSETFROM:-0500
TZOFFSETTO:-0400
TZNAME:EDT
DTSTART:20310309T070000
END:DAYLIGHT
BEGIN:STANDARD
TZOFFSETFROM:-0400
TZOFFSETTO:-0500
TZNAME:EST
DTSTART:20311102T060000
END:STANDARD
END:VTIMEZONE
BEGIN:VEVENT
DTSTART;TZID=America/New_York:20290717T120000
DTEND;TZID=America/New_York:20290717T130000
DTSTAMP:20260422T185636
CREATED:20260106T003358Z
LAST-MODIFIED:20260115T005519Z
UID:10000093-1878984000-1878987600@newlifeharvestchurch.org
SUMMARY:Faith Based Initiatives
DESCRIPTION:
URL:https://newlifeharvestchurch.org/event/faith-based-initiatives/2029-07-17/
END:VEVENT
BEGIN:VEVENT
DTSTART;TZID=America/New_York:20290731T120000
DTEND;TZID=America/New_York:20290731T130000
DTSTAMP:20260422T185636
CREATED:20260106T003358Z
LAST-MODIFIED:20260115T005519Z
UID:10000094-1880193600-1880197200@newlifeharvestchurch.org
SUMMARY:Faith Based Initiatives
DESCRIPTION:
URL:https://newlifeharvestchurch.org/event/faith-based-initiatives/2029-07-31/
END:VEVENT
BEGIN:VEVENT
DTSTART;TZID=America/New_York:20290814T120000
DTEND;TZID=America/New_York:20290814T130000
DTSTAMP:20260422T185636
CREATED:20260106T003358Z
LAST-MODIFIED:20260115T005519Z
UID:10000095-1881403200-1881406800@newlifeharvestchurch.org
SUMMARY:Faith Based Initiatives
DESCRIPTION:
URL:https://newlifeharvestchurch.org/event/faith-based-initiatives/2029-08-14/
END:VEVENT
BEGIN:VEVENT
DTSTART;TZID=America/New_York:20290828T120000
DTEND;TZID=America/New_York:20290828T130000
DTSTAMP:20260422T185636
CREATED:20260106T003358Z
LAST-MODIFIED:20260115T005519Z
UID:10000096-1882612800-1882616400@newlifeharvestchurch.org
SUMMARY:Faith Based Initiatives
DESCRIPTION:
URL:https://newlifeharvestchurch.org/event/faith-based-initiatives/2029-08-28/
END:VEVENT
BEGIN:VEVENT
DTSTART;TZID=America/New_York:20290911T120000
DTEND;TZID=America/New_York:20290911T130000
DTSTAMP:20260422T185636
CREATED:20260106T003358Z
LAST-MODIFIED:20260115T005519Z
UID:10000097-1883822400-1883826000@newlifeharvestchurch.org
SUMMARY:Faith Based Initiatives
DESCRIPTION:
URL:https://newlifeharvestchurch.org/event/faith-based-initiatives/2029-09-11/
END:VEVENT
BEGIN:VEVENT
DTSTART;TZID=America/New_York:20290925T120000
DTEND;TZID=America/New_York:20290925T130000
DTSTAMP:20260422T185636
CREATED:20260106T003358Z
LAST-MODIFIED:20260115T005519Z
UID:10000098-1885032000-1885035600@newlifeharvestchurch.org
SUMMARY:Faith Based Initiatives
DESCRIPTION:
URL:https://newlifeharvestchurch.org/event/faith-based-initiatives/2029-09-25/
END:VEVENT
BEGIN:VEVENT
DTSTART;TZID=America/New_York:20291009T120000
DTEND;TZID=America/New_York:20291009T130000
DTSTAMP:20260422T185636
CREATED:20260106T003358Z
LAST-MODIFIED:20260115T005519Z
UID:10000099-1886241600-1886245200@newlifeharvestchurch.org
SUMMARY:Faith Based Initiatives
DESCRIPTION:
URL:https://newlifeharvestchurch.org/event/faith-based-initiatives/2029-10-09/
END:VEVENT
BEGIN:VEVENT
DTSTART;TZID=America/New_York:20291023T120000
DTEND;TZID=America/New_York:20291023T130000
DTSTAMP:20260422T185636
CREATED:20260106T003358Z
LAST-MODIFIED:20260115T005519Z
UID:10000100-1887451200-1887454800@newlifeharvestchurch.org
SUMMARY:Faith Based Initiatives
DESCRIPTION:
URL:https://newlifeharvestchurch.org/event/faith-based-initiatives/2029-10-23/
END:VEVENT
BEGIN:VEVENT
DTSTART;TZID=America/New_York:20291106T120000
DTEND;TZID=America/New_York:20291106T130000
DTSTAMP:20260422T185636
CREATED:20260106T003358Z
LAST-MODIFIED:20260115T005519Z
UID:10000101-1888660800-1888664400@newlifeharvestchurch.org
SUMMARY:Faith Based Initiatives
DESCRIPTION:
URL:https://newlifeharvestchurch.org/event/faith-based-initiatives/2029-11-06/
END:VEVENT
BEGIN:VEVENT
DTSTART;TZID=America/New_York:20291120T120000
DTEND;TZID=America/New_York:20291120T130000
DTSTAMP:20260422T185636
CREATED:20260106T003358Z
LAST-MODIFIED:20260115T005519Z
UID:10000102-1889870400-1889874000@newlifeharvestchurch.org
SUMMARY:Faith Based Initiatives
DESCRIPTION:
URL:https://newlifeharvestchurch.org/event/faith-based-initiatives/2029-11-20/
END:VEVENT
BEGIN:VEVENT
DTSTART;TZID=America/New_York:20291204T120000
DTEND;TZID=America/New_York:20291204T130000
DTSTAMP:20260422T185636
CREATED:20260106T003358Z
LAST-MODIFIED:20260115T005519Z
UID:10000103-1891080000-1891083600@newlifeharvestchurch.org
SUMMARY:Faith Based Initiatives
DESCRIPTION:
URL:https://newlifeharvestchurch.org/event/faith-based-initiatives/2029-12-04/
END:VEVENT
BEGIN:VEVENT
DTSTART;TZID=America/New_York:20291218T120000
DTEND;TZID=America/New_York:20291218T130000
DTSTAMP:20260422T185636
CREATED:20260106T003358Z
LAST-MODIFIED:20260115T005519Z
UID:10000104-1892289600-1892293200@newlifeharvestchurch.org
SUMMARY:Faith Based Initiatives
DESCRIPTION:
URL:https://newlifeharvestchurch.org/event/faith-based-initiatives/2029-12-18/
END:VEVENT
BEGIN:VEVENT
DTSTART;TZID=America/New_York:20300101T120000
DTEND;TZID=America/New_York:20300101T130000
DTSTAMP:20260422T185636
CREATED:20260106T003358Z
LAST-MODIFIED:20260115T005519Z
UID:10000105-1893499200-1893502800@newlifeharvestchurch.org
SUMMARY:Faith Based Initiatives
DESCRIPTION:
URL:https://newlifeharvestchurch.org/event/faith-based-initiatives/2030-01-01/
END:VEVENT
BEGIN:VEVENT
DTSTART;TZID=America/New_York:20300115T120000
DTEND;TZID=America/New_York:20300115T130000
DTSTAMP:20260422T185636
CREATED:20260106T003358Z
LAST-MODIFIED:20260115T005519Z
UID:10000106-1894708800-1894712400@newlifeharvestchurch.org
SUMMARY:Faith Based Initiatives
DESCRIPTION:
URL:https://newlifeharvestchurch.org/event/faith-based-initiatives/2030-01-15/
END:VEVENT
BEGIN:VEVENT
DTSTART;TZID=America/New_York:20300129T120000
DTEND;TZID=America/New_York:20300129T130000
DTSTAMP:20260422T185636
CREATED:20260106T003358Z
LAST-MODIFIED:20260115T005519Z
UID:10000107-1895918400-1895922000@newlifeharvestchurch.org
SUMMARY:Faith Based Initiatives
DESCRIPTION:
URL:https://newlifeharvestchurch.org/event/faith-based-initiatives/2030-01-29/
END:VEVENT
BEGIN:VEVENT
DTSTART;TZID=America/New_York:20300212T120000
DTEND;TZID=America/New_York:20300212T130000
DTSTAMP:20260422T185636
CREATED:20260106T003358Z
LAST-MODIFIED:20260115T005519Z
UID:10000108-1897128000-1897131600@newlifeharvestchurch.org
SUMMARY:Faith Based Initiatives
DESCRIPTION:
URL:https://newlifeharvestchurch.org/event/faith-based-initiatives/2030-02-12/
END:VEVENT
BEGIN:VEVENT
DTSTART;TZID=America/New_York:20300226T120000
DTEND;TZID=America/New_York:20300226T130000
DTSTAMP:20260422T185636
CREATED:20260106T003358Z
LAST-MODIFIED:20260115T005519Z
UID:10000109-1898337600-1898341200@newlifeharvestchurch.org
SUMMARY:Faith Based Initiatives
DESCRIPTION:
URL:https://newlifeharvestchurch.org/event/faith-based-initiatives/2030-02-26/
END:VEVENT
BEGIN:VEVENT
DTSTART;TZID=America/New_York:20300312T120000
DTEND;TZID=America/New_York:20300312T130000
DTSTAMP:20260422T185636
CREATED:20260106T003358Z
LAST-MODIFIED:20260115T005519Z
UID:10000110-1899547200-1899550800@newlifeharvestchurch.org
SUMMARY:Faith Based Initiatives
DESCRIPTION:
URL:https://newlifeharvestchurch.org/event/faith-based-initiatives/2030-03-12/
END:VEVENT
BEGIN:VEVENT
DTSTART;TZID=America/New_York:20300326T120000
DTEND;TZID=America/New_York:20300326T130000
DTSTAMP:20260422T185636
CREATED:20260106T003358Z
LAST-MODIFIED:20260115T005519Z
UID:10000111-1900756800-1900760400@newlifeharvestchurch.org
SUMMARY:Faith Based Initiatives
DESCRIPTION:
URL:https://newlifeharvestchurch.org/event/faith-based-initiatives/2030-03-26/
END:VEVENT
BEGIN:VEVENT
DTSTART;TZID=America/New_York:20300409T120000
DTEND;TZID=America/New_York:20300409T130000
DTSTAMP:20260422T185636
CREATED:20260106T003358Z
LAST-MODIFIED:20260115T005519Z
UID:10000112-1901966400-1901970000@newlifeharvestchurch.org
SUMMARY:Faith Based Initiatives
DESCRIPTION:
URL:https://newlifeharvestchurch.org/event/faith-based-initiatives/2030-04-09/
END:VEVENT
BEGIN:VEVENT
DTSTART;TZID=America/New_York:20300423T120000
DTEND;TZID=America/New_York:20300423T130000
DTSTAMP:20260422T185636
CREATED:20260106T003358Z
LAST-MODIFIED:20260115T005519Z
UID:10000113-1903176000-1903179600@newlifeharvestchurch.org
SUMMARY:Faith Based Initiatives
DESCRIPTION:
URL:https://newlifeharvestchurch.org/event/faith-based-initiatives/2030-04-23/
END:VEVENT
BEGIN:VEVENT
DTSTART;TZID=America/New_York:20300507T120000
DTEND;TZID=America/New_York:20300507T130000
DTSTAMP:20260422T185636
CREATED:20260106T003358Z
LAST-MODIFIED:20260115T005519Z
UID:10000114-1904385600-1904389200@newlifeharvestchurch.org
SUMMARY:Faith Based Initiatives
DESCRIPTION:
URL:https://newlifeharvestchurch.org/event/faith-based-initiatives/2030-05-07/
END:VEVENT
BEGIN:VEVENT
DTSTART;TZID=America/New_York:20300521T120000
DTEND;TZID=America/New_York:20300521T130000
DTSTAMP:20260422T185636
CREATED:20260106T003358Z
LAST-MODIFIED:20260115T005519Z
UID:10000115-1905595200-1905598800@newlifeharvestchurch.org
SUMMARY:Faith Based Initiatives
DESCRIPTION:
URL:https://newlifeharvestchurch.org/event/faith-based-initiatives/2030-05-21/
END:VEVENT
BEGIN:VEVENT
DTSTART;TZID=America/New_York:20300604T120000
DTEND;TZID=America/New_York:20300604T130000
DTSTAMP:20260422T185636
CREATED:20260106T003358Z
LAST-MODIFIED:20260115T005519Z
UID:10000116-1906804800-1906808400@newlifeharvestchurch.org
SUMMARY:Faith Based Initiatives
DESCRIPTION:
URL:https://newlifeharvestchurch.org/event/faith-based-initiatives/2030-06-04/
END:VEVENT
BEGIN:VEVENT
DTSTART;TZID=America/New_York:20300618T120000
DTEND;TZID=America/New_York:20300618T130000
DTSTAMP:20260422T185636
CREATED:20260106T003358Z
LAST-MODIFIED:20260115T005519Z
UID:10000117-1908014400-1908018000@newlifeharvestchurch.org
SUMMARY:Faith Based Initiatives
DESCRIPTION:
URL:https://newlifeharvestchurch.org/event/faith-based-initiatives/2030-06-18/
END:VEVENT
BEGIN:VEVENT
DTSTART;TZID=America/New_York:20300702T120000
DTEND;TZID=America/New_York:20300702T130000
DTSTAMP:20260422T185636
CREATED:20260106T003358Z
LAST-MODIFIED:20260115T005519Z
UID:10000118-1909224000-1909227600@newlifeharvestchurch.org
SUMMARY:Faith Based Initiatives
DESCRIPTION:
URL:https://newlifeharvestchurch.org/event/faith-based-initiatives/2030-07-02/
END:VEVENT
BEGIN:VEVENT
DTSTART;TZID=America/New_York:20300716T120000
DTEND;TZID=America/New_York:20300716T130000
DTSTAMP:20260422T185636
CREATED:20260106T003358Z
LAST-MODIFIED:20260115T005519Z
UID:10000119-1910433600-1910437200@newlifeharvestchurch.org
SUMMARY:Faith Based Initiatives
DESCRIPTION:
URL:https://newlifeharvestchurch.org/event/faith-based-initiatives/2030-07-16/
END:VEVENT
BEGIN:VEVENT
DTSTART;TZID=America/New_York:20300730T120000
DTEND;TZID=America/New_York:20300730T130000
DTSTAMP:20260422T185636
CREATED:20260106T003358Z
LAST-MODIFIED:20260115T005519Z
UID:10000120-1911643200-1911646800@newlifeharvestchurch.org
SUMMARY:Faith Based Initiatives
DESCRIPTION:
URL:https://newlifeharvestchurch.org/event/faith-based-initiatives/2030-07-30/
END:VEVENT
BEGIN:VEVENT
DTSTART;TZID=America/New_York:20300813T120000
DTEND;TZID=America/New_York:20300813T130000
DTSTAMP:20260422T185636
CREATED:20260106T003358Z
LAST-MODIFIED:20260115T005519Z
UID:10000121-1912852800-1912856400@newlifeharvestchurch.org
SUMMARY:Faith Based Initiatives
DESCRIPTION:
URL:https://newlifeharvestchurch.org/event/faith-based-initiatives/2030-08-13/
END:VEVENT
BEGIN:VEVENT
DTSTART;TZID=America/New_York:20300827T120000
DTEND;TZID=America/New_York:20300827T130000
DTSTAMP:20260422T185636
CREATED:20260106T003358Z
LAST-MODIFIED:20260115T005519Z
UID:10000122-1914062400-1914066000@newlifeharvestchurch.org
SUMMARY:Faith Based Initiatives
DESCRIPTION:
URL:https://newlifeharvestchurch.org/event/faith-based-initiatives/2030-08-27/
END:VEVENT
END:VCALENDAR