BEGIN:VCALENDAR
VERSION:2.0
PRODID:-//New Life Harvest Church - ECPv6.15.20//NONSGML v1.0//EN
CALSCALE:GREGORIAN
METHOD:PUBLISH
X-WR-CALNAME:New Life Harvest Church
X-ORIGINAL-URL:https://newlifeharvestchurch.org
X-WR-CALDESC:Events for New Life Harvest Church
REFRESH-INTERVAL;VALUE=DURATION:PT1H
X-Robots-Tag:noindex
X-PUBLISHED-TTL:PT1H
BEGIN:VTIMEZONE
TZID:America/New_York
BEGIN:DAYLIGHT
TZOFFSETFROM:-0500
TZOFFSETTO:-0400
TZNAME:EDT
DTSTART:20260308T070000
END:DAYLIGHT
BEGIN:STANDARD
TZOFFSETFROM:-0400
TZOFFSETTO:-0500
TZNAME:EST
DTSTART:20261101T060000
END:STANDARD
BEGIN:DAYLIGHT
TZOFFSETFROM:-0500
TZOFFSETTO:-0400
TZNAME:EDT
DTSTART:20270314T070000
END:DAYLIGHT
BEGIN:STANDARD
TZOFFSETFROM:-0400
TZOFFSETTO:-0500
TZNAME:EST
DTSTART:20271107T060000
END:STANDARD
BEGIN:DAYLIGHT
TZOFFSETFROM:-0500
TZOFFSETTO:-0400
TZNAME:EDT
DTSTART:20280312T070000
END:DAYLIGHT
BEGIN:STANDARD
TZOFFSETFROM:-0400
TZOFFSETTO:-0500
TZNAME:EST
DTSTART:20281105T060000
END:STANDARD
BEGIN:DAYLIGHT
TZOFFSETFROM:-0500
TZOFFSETTO:-0400
TZNAME:EDT
DTSTART:20290311T070000
END:DAYLIGHT
BEGIN:STANDARD
TZOFFSETFROM:-0400
TZOFFSETTO:-0500
TZNAME:EST
DTSTART:20291104T060000
END:STANDARD
END:VTIMEZONE
BEGIN:VEVENT
DTSTART;TZID=America/New_York:20270831T120000
DTEND;TZID=America/New_York:20270831T130000
DTSTAMP:20260421T222800
CREATED:20260106T003358Z
LAST-MODIFIED:20260115T005519Z
UID:10000044-1819713600-1819717200@newlifeharvestchurch.org
SUMMARY:Faith Based Initiatives
DESCRIPTION:
URL:https://newlifeharvestchurch.org/event/faith-based-initiatives/2027-08-31/
END:VEVENT
BEGIN:VEVENT
DTSTART;TZID=America/New_York:20270914T120000
DTEND;TZID=America/New_York:20270914T130000
DTSTAMP:20260421T222800
CREATED:20260106T003358Z
LAST-MODIFIED:20260115T005519Z
UID:10000045-1820923200-1820926800@newlifeharvestchurch.org
SUMMARY:Faith Based Initiatives
DESCRIPTION:
URL:https://newlifeharvestchurch.org/event/faith-based-initiatives/2027-09-14/
END:VEVENT
BEGIN:VEVENT
DTSTART;TZID=America/New_York:20270928T120000
DTEND;TZID=America/New_York:20270928T130000
DTSTAMP:20260421T222800
CREATED:20260106T003358Z
LAST-MODIFIED:20260115T005519Z
UID:10000046-1822132800-1822136400@newlifeharvestchurch.org
SUMMARY:Faith Based Initiatives
DESCRIPTION:
URL:https://newlifeharvestchurch.org/event/faith-based-initiatives/2027-09-28/
END:VEVENT
BEGIN:VEVENT
DTSTART;TZID=America/New_York:20271012T120000
DTEND;TZID=America/New_York:20271012T130000
DTSTAMP:20260421T222800
CREATED:20260106T003358Z
LAST-MODIFIED:20260115T005519Z
UID:10000047-1823342400-1823346000@newlifeharvestchurch.org
SUMMARY:Faith Based Initiatives
DESCRIPTION:
URL:https://newlifeharvestchurch.org/event/faith-based-initiatives/2027-10-12/
END:VEVENT
BEGIN:VEVENT
DTSTART;TZID=America/New_York:20271026T120000
DTEND;TZID=America/New_York:20271026T130000
DTSTAMP:20260421T222800
CREATED:20260106T003358Z
LAST-MODIFIED:20260115T005519Z
UID:10000048-1824552000-1824555600@newlifeharvestchurch.org
SUMMARY:Faith Based Initiatives
DESCRIPTION:
URL:https://newlifeharvestchurch.org/event/faith-based-initiatives/2027-10-26/
END:VEVENT
BEGIN:VEVENT
DTSTART;TZID=America/New_York:20271109T120000
DTEND;TZID=America/New_York:20271109T130000
DTSTAMP:20260421T222800
CREATED:20260106T003358Z
LAST-MODIFIED:20260115T005519Z
UID:10000049-1825761600-1825765200@newlifeharvestchurch.org
SUMMARY:Faith Based Initiatives
DESCRIPTION:
URL:https://newlifeharvestchurch.org/event/faith-based-initiatives/2027-11-09/
END:VEVENT
BEGIN:VEVENT
DTSTART;TZID=America/New_York:20271123T120000
DTEND;TZID=America/New_York:20271123T130000
DTSTAMP:20260421T222800
CREATED:20260106T003358Z
LAST-MODIFIED:20260115T005519Z
UID:10000050-1826971200-1826974800@newlifeharvestchurch.org
SUMMARY:Faith Based Initiatives
DESCRIPTION:
URL:https://newlifeharvestchurch.org/event/faith-based-initiatives/2027-11-23/
END:VEVENT
BEGIN:VEVENT
DTSTART;TZID=America/New_York:20271207T120000
DTEND;TZID=America/New_York:20271207T130000
DTSTAMP:20260421T222800
CREATED:20260106T003358Z
LAST-MODIFIED:20260115T005519Z
UID:10000051-1828180800-1828184400@newlifeharvestchurch.org
SUMMARY:Faith Based Initiatives
DESCRIPTION:
URL:https://newlifeharvestchurch.org/event/faith-based-initiatives/2027-12-07/
END:VEVENT
BEGIN:VEVENT
DTSTART;TZID=America/New_York:20271221T120000
DTEND;TZID=America/New_York:20271221T130000
DTSTAMP:20260421T222800
CREATED:20260106T003358Z
LAST-MODIFIED:20260115T005519Z
UID:10000052-1829390400-1829394000@newlifeharvestchurch.org
SUMMARY:Faith Based Initiatives
DESCRIPTION:
URL:https://newlifeharvestchurch.org/event/faith-based-initiatives/2027-12-21/
END:VEVENT
BEGIN:VEVENT
DTSTART;TZID=America/New_York:20280104T120000
DTEND;TZID=America/New_York:20280104T130000
DTSTAMP:20260421T222800
CREATED:20260106T003358Z
LAST-MODIFIED:20260115T005519Z
UID:10000053-1830600000-1830603600@newlifeharvestchurch.org
SUMMARY:Faith Based Initiatives
DESCRIPTION:
URL:https://newlifeharvestchurch.org/event/faith-based-initiatives/2028-01-04/
END:VEVENT
BEGIN:VEVENT
DTSTART;TZID=America/New_York:20280118T120000
DTEND;TZID=America/New_York:20280118T130000
DTSTAMP:20260421T222800
CREATED:20260106T003358Z
LAST-MODIFIED:20260115T005519Z
UID:10000054-1831809600-1831813200@newlifeharvestchurch.org
SUMMARY:Faith Based Initiatives
DESCRIPTION:
URL:https://newlifeharvestchurch.org/event/faith-based-initiatives/2028-01-18/
END:VEVENT
BEGIN:VEVENT
DTSTART;TZID=America/New_York:20280201T120000
DTEND;TZID=America/New_York:20280201T130000
DTSTAMP:20260421T222801
CREATED:20260106T003358Z
LAST-MODIFIED:20260115T005519Z
UID:10000055-1833019200-1833022800@newlifeharvestchurch.org
SUMMARY:Faith Based Initiatives
DESCRIPTION:
URL:https://newlifeharvestchurch.org/event/faith-based-initiatives/2028-02-01/
END:VEVENT
BEGIN:VEVENT
DTSTART;TZID=America/New_York:20280215T120000
DTEND;TZID=America/New_York:20280215T130000
DTSTAMP:20260421T222801
CREATED:20260106T003358Z
LAST-MODIFIED:20260115T005519Z
UID:10000056-1834228800-1834232400@newlifeharvestchurch.org
SUMMARY:Faith Based Initiatives
DESCRIPTION:
URL:https://newlifeharvestchurch.org/event/faith-based-initiatives/2028-02-15/
END:VEVENT
BEGIN:VEVENT
DTSTART;TZID=America/New_York:20280229T120000
DTEND;TZID=America/New_York:20280229T130000
DTSTAMP:20260421T222801
CREATED:20260106T003358Z
LAST-MODIFIED:20260115T005519Z
UID:10000057-1835438400-1835442000@newlifeharvestchurch.org
SUMMARY:Faith Based Initiatives
DESCRIPTION:
URL:https://newlifeharvestchurch.org/event/faith-based-initiatives/2028-02-29/
END:VEVENT
BEGIN:VEVENT
DTSTART;TZID=America/New_York:20280314T120000
DTEND;TZID=America/New_York:20280314T130000
DTSTAMP:20260421T222801
CREATED:20260106T003358Z
LAST-MODIFIED:20260115T005519Z
UID:10000058-1836648000-1836651600@newlifeharvestchurch.org
SUMMARY:Faith Based Initiatives
DESCRIPTION:
URL:https://newlifeharvestchurch.org/event/faith-based-initiatives/2028-03-14/
END:VEVENT
BEGIN:VEVENT
DTSTART;TZID=America/New_York:20280328T120000
DTEND;TZID=America/New_York:20280328T130000
DTSTAMP:20260421T222801
CREATED:20260106T003358Z
LAST-MODIFIED:20260115T005519Z
UID:10000059-1837857600-1837861200@newlifeharvestchurch.org
SUMMARY:Faith Based Initiatives
DESCRIPTION:
URL:https://newlifeharvestchurch.org/event/faith-based-initiatives/2028-03-28/
END:VEVENT
BEGIN:VEVENT
DTSTART;TZID=America/New_York:20280411T120000
DTEND;TZID=America/New_York:20280411T130000
DTSTAMP:20260421T222801
CREATED:20260106T003358Z
LAST-MODIFIED:20260115T005519Z
UID:10000060-1839067200-1839070800@newlifeharvestchurch.org
SUMMARY:Faith Based Initiatives
DESCRIPTION:
URL:https://newlifeharvestchurch.org/event/faith-based-initiatives/2028-04-11/
END:VEVENT
BEGIN:VEVENT
DTSTART;TZID=America/New_York:20280425T120000
DTEND;TZID=America/New_York:20280425T130000
DTSTAMP:20260421T222801
CREATED:20260106T003358Z
LAST-MODIFIED:20260115T005519Z
UID:10000061-1840276800-1840280400@newlifeharvestchurch.org
SUMMARY:Faith Based Initiatives
DESCRIPTION:
URL:https://newlifeharvestchurch.org/event/faith-based-initiatives/2028-04-25/
END:VEVENT
BEGIN:VEVENT
DTSTART;TZID=America/New_York:20280509T120000
DTEND;TZID=America/New_York:20280509T130000
DTSTAMP:20260421T222801
CREATED:20260106T003358Z
LAST-MODIFIED:20260115T005519Z
UID:10000062-1841486400-1841490000@newlifeharvestchurch.org
SUMMARY:Faith Based Initiatives
DESCRIPTION:
URL:https://newlifeharvestchurch.org/event/faith-based-initiatives/2028-05-09/
END:VEVENT
BEGIN:VEVENT
DTSTART;TZID=America/New_York:20280523T120000
DTEND;TZID=America/New_York:20280523T130000
DTSTAMP:20260421T222801
CREATED:20260106T003358Z
LAST-MODIFIED:20260115T005519Z
UID:10000063-1842696000-1842699600@newlifeharvestchurch.org
SUMMARY:Faith Based Initiatives
DESCRIPTION:
URL:https://newlifeharvestchurch.org/event/faith-based-initiatives/2028-05-23/
END:VEVENT
BEGIN:VEVENT
DTSTART;TZID=America/New_York:20280606T120000
DTEND;TZID=America/New_York:20280606T130000
DTSTAMP:20260421T222801
CREATED:20260106T003358Z
LAST-MODIFIED:20260115T005519Z
UID:10000064-1843905600-1843909200@newlifeharvestchurch.org
SUMMARY:Faith Based Initiatives
DESCRIPTION:
URL:https://newlifeharvestchurch.org/event/faith-based-initiatives/2028-06-06/
END:VEVENT
BEGIN:VEVENT
DTSTART;TZID=America/New_York:20280620T120000
DTEND;TZID=America/New_York:20280620T130000
DTSTAMP:20260421T222801
CREATED:20260106T003358Z
LAST-MODIFIED:20260115T005519Z
UID:10000065-1845115200-1845118800@newlifeharvestchurch.org
SUMMARY:Faith Based Initiatives
DESCRIPTION:
URL:https://newlifeharvestchurch.org/event/faith-based-initiatives/2028-06-20/
END:VEVENT
BEGIN:VEVENT
DTSTART;TZID=America/New_York:20280704T120000
DTEND;TZID=America/New_York:20280704T130000
DTSTAMP:20260421T222801
CREATED:20260106T003358Z
LAST-MODIFIED:20260115T005519Z
UID:10000066-1846324800-1846328400@newlifeharvestchurch.org
SUMMARY:Faith Based Initiatives
DESCRIPTION:
URL:https://newlifeharvestchurch.org/event/faith-based-initiatives/2028-07-04/
END:VEVENT
BEGIN:VEVENT
DTSTART;TZID=America/New_York:20280718T120000
DTEND;TZID=America/New_York:20280718T130000
DTSTAMP:20260421T222801
CREATED:20260106T003358Z
LAST-MODIFIED:20260115T005519Z
UID:10000067-1847534400-1847538000@newlifeharvestchurch.org
SUMMARY:Faith Based Initiatives
DESCRIPTION:
URL:https://newlifeharvestchurch.org/event/faith-based-initiatives/2028-07-18/
END:VEVENT
BEGIN:VEVENT
DTSTART;TZID=America/New_York:20280801T120000
DTEND;TZID=America/New_York:20280801T130000
DTSTAMP:20260421T222801
CREATED:20260106T003358Z
LAST-MODIFIED:20260115T005519Z
UID:10000068-1848744000-1848747600@newlifeharvestchurch.org
SUMMARY:Faith Based Initiatives
DESCRIPTION:
URL:https://newlifeharvestchurch.org/event/faith-based-initiatives/2028-08-01/
END:VEVENT
BEGIN:VEVENT
DTSTART;TZID=America/New_York:20280815T120000
DTEND;TZID=America/New_York:20280815T130000
DTSTAMP:20260421T222801
CREATED:20260106T003358Z
LAST-MODIFIED:20260115T005519Z
UID:10000069-1849953600-1849957200@newlifeharvestchurch.org
SUMMARY:Faith Based Initiatives
DESCRIPTION:
URL:https://newlifeharvestchurch.org/event/faith-based-initiatives/2028-08-15/
END:VEVENT
BEGIN:VEVENT
DTSTART;TZID=America/New_York:20280829T120000
DTEND;TZID=America/New_York:20280829T130000
DTSTAMP:20260421T222801
CREATED:20260106T003358Z
LAST-MODIFIED:20260115T005519Z
UID:10000070-1851163200-1851166800@newlifeharvestchurch.org
SUMMARY:Faith Based Initiatives
DESCRIPTION:
URL:https://newlifeharvestchurch.org/event/faith-based-initiatives/2028-08-29/
END:VEVENT
BEGIN:VEVENT
DTSTART;TZID=America/New_York:20280912T120000
DTEND;TZID=America/New_York:20280912T130000
DTSTAMP:20260421T222801
CREATED:20260106T003358Z
LAST-MODIFIED:20260115T005519Z
UID:10000071-1852372800-1852376400@newlifeharvestchurch.org
SUMMARY:Faith Based Initiatives
DESCRIPTION:
URL:https://newlifeharvestchurch.org/event/faith-based-initiatives/2028-09-12/
END:VEVENT
BEGIN:VEVENT
DTSTART;TZID=America/New_York:20280926T120000
DTEND;TZID=America/New_York:20280926T130000
DTSTAMP:20260421T222801
CREATED:20260106T003358Z
LAST-MODIFIED:20260115T005519Z
UID:10000072-1853582400-1853586000@newlifeharvestchurch.org
SUMMARY:Faith Based Initiatives
DESCRIPTION:
URL:https://newlifeharvestchurch.org/event/faith-based-initiatives/2028-09-26/
END:VEVENT
BEGIN:VEVENT
DTSTART;TZID=America/New_York:20281010T120000
DTEND;TZID=America/New_York:20281010T130000
DTSTAMP:20260421T222801
CREATED:20260106T003358Z
LAST-MODIFIED:20260115T005519Z
UID:10000073-1854792000-1854795600@newlifeharvestchurch.org
SUMMARY:Faith Based Initiatives
DESCRIPTION:
URL:https://newlifeharvestchurch.org/event/faith-based-initiatives/2028-10-10/
END:VEVENT
END:VCALENDAR