BEGIN:VCALENDAR
VERSION:2.0
PRODID:-//New Life Harvest Church - ECPv6.15.20//NONSGML v1.0//EN
CALSCALE:GREGORIAN
METHOD:PUBLISH
X-WR-CALNAME:New Life Harvest Church
X-ORIGINAL-URL:https://newlifeharvestchurch.org
X-WR-CALDESC:Events for New Life Harvest Church
REFRESH-INTERVAL;VALUE=DURATION:PT1H
X-Robots-Tag:noindex
X-PUBLISHED-TTL:PT1H
BEGIN:VTIMEZONE
TZID:America/New_York
BEGIN:DAYLIGHT
TZOFFSETFROM:-0500
TZOFFSETTO:-0400
TZNAME:EDT
DTSTART:20250309T070000
END:DAYLIGHT
BEGIN:STANDARD
TZOFFSETFROM:-0400
TZOFFSETTO:-0500
TZNAME:EST
DTSTART:20251102T060000
END:STANDARD
BEGIN:DAYLIGHT
TZOFFSETFROM:-0500
TZOFFSETTO:-0400
TZNAME:EDT
DTSTART:20260308T070000
END:DAYLIGHT
BEGIN:STANDARD
TZOFFSETFROM:-0400
TZOFFSETTO:-0500
TZNAME:EST
DTSTART:20261101T060000
END:STANDARD
BEGIN:DAYLIGHT
TZOFFSETFROM:-0500
TZOFFSETTO:-0400
TZNAME:EDT
DTSTART:20270314T070000
END:DAYLIGHT
BEGIN:STANDARD
TZOFFSETFROM:-0400
TZOFFSETTO:-0500
TZNAME:EST
DTSTART:20271107T060000
END:STANDARD
END:VTIMEZONE
BEGIN:VEVENT
DTSTART;TZID=America/New_York:20260203T120000
DTEND;TZID=America/New_York:20260203T130000
DTSTAMP:20260421T222857
CREATED:20260106T003358Z
LAST-MODIFIED:20260115T005519Z
UID:10000003-1770120000-1770123600@newlifeharvestchurch.org
SUMMARY:Faith Based Initiatives
DESCRIPTION:
URL:https://newlifeharvestchurch.org/event/faith-based-initiatives/2026-02-03/
END:VEVENT
BEGIN:VEVENT
DTSTART;TZID=America/New_York:20260120T120000
DTEND;TZID=America/New_York:20260120T130000
DTSTAMP:20260421T222857
CREATED:20260106T003358Z
LAST-MODIFIED:20260115T005519Z
UID:10000002-1768910400-1768914000@newlifeharvestchurch.org
SUMMARY:Faith Based Initiatives
DESCRIPTION:
URL:https://newlifeharvestchurch.org/event/faith-based-initiatives/2026-01-20/
END:VEVENT
BEGIN:VEVENT
DTSTART;TZID=America/New_York:20260106T120000
DTEND;TZID=America/New_York:20260106T130000
DTSTAMP:20260421T222857
CREATED:20260106T003358Z
LAST-MODIFIED:20260115T005519Z
UID:10000001-1767700800-1767704400@newlifeharvestchurch.org
SUMMARY:Faith Based Initiatives
DESCRIPTION:
URL:https://newlifeharvestchurch.org/event/faith-based-initiatives/2026-01-06/
END:VEVENT
END:VCALENDAR