BEGIN:VCALENDAR
VERSION:2.0
PRODID:-//New Life Harvest Church - ECPv6.15.20//NONSGML v1.0//EN
CALSCALE:GREGORIAN
METHOD:PUBLISH
X-WR-CALNAME:New Life Harvest Church
X-ORIGINAL-URL:https://newlifeharvestchurch.org
X-WR-CALDESC:Events for New Life Harvest Church
REFRESH-INTERVAL;VALUE=DURATION:PT1H
X-Robots-Tag:noindex
X-PUBLISHED-TTL:PT1H
BEGIN:VTIMEZONE
TZID:America/New_York
BEGIN:DAYLIGHT
TZOFFSETFROM:-0500
TZOFFSETTO:-0400
TZNAME:EDT
DTSTART:20250309T070000
END:DAYLIGHT
BEGIN:STANDARD
TZOFFSETFROM:-0400
TZOFFSETTO:-0500
TZNAME:EST
DTSTART:20251102T060000
END:STANDARD
BEGIN:DAYLIGHT
TZOFFSETFROM:-0500
TZOFFSETTO:-0400
TZNAME:EDT
DTSTART:20260308T070000
END:DAYLIGHT
BEGIN:STANDARD
TZOFFSETFROM:-0400
TZOFFSETTO:-0500
TZNAME:EST
DTSTART:20261101T060000
END:STANDARD
BEGIN:DAYLIGHT
TZOFFSETFROM:-0500
TZOFFSETTO:-0400
TZNAME:EDT
DTSTART:20270314T070000
END:DAYLIGHT
BEGIN:STANDARD
TZOFFSETFROM:-0400
TZOFFSETTO:-0500
TZNAME:EST
DTSTART:20271107T060000
END:STANDARD
BEGIN:DAYLIGHT
TZOFFSETFROM:-0500
TZOFFSETTO:-0400
TZNAME:EDT
DTSTART:20280312T070000
END:DAYLIGHT
BEGIN:STANDARD
TZOFFSETFROM:-0400
TZOFFSETTO:-0500
TZNAME:EST
DTSTART:20281105T060000
END:STANDARD
END:VTIMEZONE
BEGIN:VEVENT
DTSTART;TZID=America/New_York:20260203T120000
DTEND;TZID=America/New_York:20260203T130000
DTSTAMP:20260421T223822
CREATED:20260106T003358Z
LAST-MODIFIED:20260115T005519Z
UID:10000003-1770120000-1770123600@newlifeharvestchurch.org
SUMMARY:Faith Based Initiatives
DESCRIPTION:
URL:https://newlifeharvestchurch.org/event/faith-based-initiatives/2026-02-03/
LOCATION:VA
END:VEVENT
BEGIN:VEVENT
DTSTART;TZID=America/New_York:20260217T120000
DTEND;TZID=America/New_York:20260217T130000
DTSTAMP:20260421T223822
CREATED:20260106T003358Z
LAST-MODIFIED:20260115T005519Z
UID:10000004-1771329600-1771333200@newlifeharvestchurch.org
SUMMARY:Faith Based Initiatives
DESCRIPTION:
URL:https://newlifeharvestchurch.org/event/faith-based-initiatives/2026-02-17/
LOCATION:VA
END:VEVENT
BEGIN:VEVENT
DTSTART;TZID=America/New_York:20260221T080000
DTEND;TZID=America/New_York:20260221T160000
DTSTAMP:20260421T223822
CREATED:20260213T183515Z
LAST-MODIFIED:20260216T132556Z
UID:10000133-1771660800-1771689600@newlifeharvestchurch.org
SUMMARY:The Role of the Church Action Training
DESCRIPTION:Join us for a one-day training designed to equip pastors and churches to understand the challenges facing our nation and to learn how to take biblically based action to be the hands and feet of Jesus in restoring a God-honoring Constitutional Republic in your communities. \nRegistration Information: \nTime: Doors open 8:00; Program begins 9:00 am – 4:00 pm \nPay-Per-View Live Stream: $20 (event link will be sent on the day of the event) \nIn-Person Registration:  $40/person (children 12 & under are free) \nIn-Person Youth Scholarship Promo: $20 (youth 14-30 years of age)
URL:https://newlifeharvestchurch.org/event/the-role-of-the-church-action-training/
LOCATION:VA
END:VEVENT
BEGIN:VEVENT
DTSTART;TZID=America/New_York:20260303T120000
DTEND;TZID=America/New_York:20260303T130000
DTSTAMP:20260421T223822
CREATED:20260106T003358Z
LAST-MODIFIED:20260115T005519Z
UID:10000005-1772539200-1772542800@newlifeharvestchurch.org
SUMMARY:Faith Based Initiatives
DESCRIPTION:
URL:https://newlifeharvestchurch.org/event/faith-based-initiatives/2026-03-03/
LOCATION:VA
END:VEVENT
BEGIN:VEVENT
DTSTART;TZID=America/New_York:20260317T120000
DTEND;TZID=America/New_York:20260317T130000
DTSTAMP:20260421T223822
CREATED:20260106T003358Z
LAST-MODIFIED:20260115T005519Z
UID:10000006-1773748800-1773752400@newlifeharvestchurch.org
SUMMARY:Faith Based Initiatives
DESCRIPTION:
URL:https://newlifeharvestchurch.org/event/faith-based-initiatives/2026-03-17/
LOCATION:VA
END:VEVENT
BEGIN:VEVENT
DTSTART;TZID=America/New_York:20260331T120000
DTEND;TZID=America/New_York:20260331T130000
DTSTAMP:20260421T223822
CREATED:20260106T003358Z
LAST-MODIFIED:20260115T005519Z
UID:10000007-1774958400-1774962000@newlifeharvestchurch.org
SUMMARY:Faith Based Initiatives
DESCRIPTION:
URL:https://newlifeharvestchurch.org/event/faith-based-initiatives/2026-03-31/
LOCATION:VA
END:VEVENT
BEGIN:VEVENT
DTSTART;VALUE=DATE:20260403
DTEND;VALUE=DATE:20260405
DTSTAMP:20260421T223822
CREATED:20260315T123044Z
LAST-MODIFIED:20260315T123044Z
UID:10000134-1775174400-1775347199@newlifeharvestchurch.org
SUMMARY:World Federation Council of Churches Youth Conference 2026
DESCRIPTION:World Federation Council of Churches Youth Conference 2026 \nFriday Night Service – Youth Explosion!\n7:00PM – 9:00PM Doors open at 6:30PM \nSaturday Service\n3:00PM-5:00PM
URL:https://newlifeharvestchurch.org/event/world-federation-council-of-churches-youth-conference-2026/
LOCATION:Victory Theatre Center\, 7903 Midlothian Turnpike\, Richmond\, VA\, 23235\, United States
END:VEVENT
BEGIN:VEVENT
DTSTART;TZID=America/New_York:20260414T120000
DTEND;TZID=America/New_York:20260414T130000
DTSTAMP:20260421T223822
CREATED:20260106T003358Z
LAST-MODIFIED:20260115T005519Z
UID:10000008-1776168000-1776171600@newlifeharvestchurch.org
SUMMARY:Faith Based Initiatives
DESCRIPTION:
URL:https://newlifeharvestchurch.org/event/faith-based-initiatives/2026-04-14/
LOCATION:VA
END:VEVENT
BEGIN:VEVENT
DTSTART;TZID=America/New_York:20260428T120000
DTEND;TZID=America/New_York:20260428T130000
DTSTAMP:20260421T223822
CREATED:20260106T003358Z
LAST-MODIFIED:20260115T005519Z
UID:10000009-1777377600-1777381200@newlifeharvestchurch.org
SUMMARY:Faith Based Initiatives
DESCRIPTION:
URL:https://newlifeharvestchurch.org/event/faith-based-initiatives/2026-04-28/
LOCATION:VA
END:VEVENT
BEGIN:VEVENT
DTSTART;TZID=America/New_York:20260512T120000
DTEND;TZID=America/New_York:20260512T130000
DTSTAMP:20260421T223822
CREATED:20260106T003358Z
LAST-MODIFIED:20260115T005519Z
UID:10000010-1778587200-1778590800@newlifeharvestchurch.org
SUMMARY:Faith Based Initiatives
DESCRIPTION:
URL:https://newlifeharvestchurch.org/event/faith-based-initiatives/2026-05-12/
LOCATION:VA
END:VEVENT
BEGIN:VEVENT
DTSTART;TZID=America/New_York:20260526T120000
DTEND;TZID=America/New_York:20260526T130000
DTSTAMP:20260421T223822
CREATED:20260106T003358Z
LAST-MODIFIED:20260115T005519Z
UID:10000011-1779796800-1779800400@newlifeharvestchurch.org
SUMMARY:Faith Based Initiatives
DESCRIPTION:
URL:https://newlifeharvestchurch.org/event/faith-based-initiatives/2026-05-26/
LOCATION:VA
END:VEVENT
BEGIN:VEVENT
DTSTART;TZID=America/New_York:20260609T120000
DTEND;TZID=America/New_York:20260609T130000
DTSTAMP:20260421T223822
CREATED:20260106T003358Z
LAST-MODIFIED:20260115T005519Z
UID:10000012-1781006400-1781010000@newlifeharvestchurch.org
SUMMARY:Faith Based Initiatives
DESCRIPTION:
URL:https://newlifeharvestchurch.org/event/faith-based-initiatives/2026-06-09/
LOCATION:VA
END:VEVENT
BEGIN:VEVENT
DTSTART;TZID=America/New_York:20260623T120000
DTEND;TZID=America/New_York:20260623T130000
DTSTAMP:20260421T223822
CREATED:20260106T003358Z
LAST-MODIFIED:20260115T005519Z
UID:10000013-1782216000-1782219600@newlifeharvestchurch.org
SUMMARY:Faith Based Initiatives
DESCRIPTION:
URL:https://newlifeharvestchurch.org/event/faith-based-initiatives/2026-06-23/
LOCATION:VA
END:VEVENT
BEGIN:VEVENT
DTSTART;TZID=America/New_York:20260707T120000
DTEND;TZID=America/New_York:20260707T130000
DTSTAMP:20260421T223822
CREATED:20260106T003358Z
LAST-MODIFIED:20260115T005519Z
UID:10000014-1783425600-1783429200@newlifeharvestchurch.org
SUMMARY:Faith Based Initiatives
DESCRIPTION:
URL:https://newlifeharvestchurch.org/event/faith-based-initiatives/2026-07-07/
LOCATION:VA
END:VEVENT
BEGIN:VEVENT
DTSTART;TZID=America/New_York:20260721T120000
DTEND;TZID=America/New_York:20260721T130000
DTSTAMP:20260421T223822
CREATED:20260106T003358Z
LAST-MODIFIED:20260115T005519Z
UID:10000015-1784635200-1784638800@newlifeharvestchurch.org
SUMMARY:Faith Based Initiatives
DESCRIPTION:
URL:https://newlifeharvestchurch.org/event/faith-based-initiatives/2026-07-21/
LOCATION:VA
END:VEVENT
BEGIN:VEVENT
DTSTART;TZID=America/New_York:20260804T120000
DTEND;TZID=America/New_York:20260804T130000
DTSTAMP:20260421T223822
CREATED:20260106T003358Z
LAST-MODIFIED:20260115T005519Z
UID:10000016-1785844800-1785848400@newlifeharvestchurch.org
SUMMARY:Faith Based Initiatives
DESCRIPTION:
URL:https://newlifeharvestchurch.org/event/faith-based-initiatives/2026-08-04/
LOCATION:VA
END:VEVENT
BEGIN:VEVENT
DTSTART;TZID=America/New_York:20260818T120000
DTEND;TZID=America/New_York:20260818T130000
DTSTAMP:20260421T223822
CREATED:20260106T003358Z
LAST-MODIFIED:20260115T005519Z
UID:10000017-1787054400-1787058000@newlifeharvestchurch.org
SUMMARY:Faith Based Initiatives
DESCRIPTION:
URL:https://newlifeharvestchurch.org/event/faith-based-initiatives/2026-08-18/
LOCATION:VA
END:VEVENT
BEGIN:VEVENT
DTSTART;TZID=America/New_York:20260901T120000
DTEND;TZID=America/New_York:20260901T130000
DTSTAMP:20260421T223822
CREATED:20260106T003358Z
LAST-MODIFIED:20260115T005519Z
UID:10000018-1788264000-1788267600@newlifeharvestchurch.org
SUMMARY:Faith Based Initiatives
DESCRIPTION:
URL:https://newlifeharvestchurch.org/event/faith-based-initiatives/2026-09-01/
LOCATION:VA
END:VEVENT
BEGIN:VEVENT
DTSTART;TZID=America/New_York:20260915T120000
DTEND;TZID=America/New_York:20260915T130000
DTSTAMP:20260421T223822
CREATED:20260106T003358Z
LAST-MODIFIED:20260115T005519Z
UID:10000019-1789473600-1789477200@newlifeharvestchurch.org
SUMMARY:Faith Based Initiatives
DESCRIPTION:
URL:https://newlifeharvestchurch.org/event/faith-based-initiatives/2026-09-15/
LOCATION:VA
END:VEVENT
BEGIN:VEVENT
DTSTART;TZID=America/New_York:20260929T120000
DTEND;TZID=America/New_York:20260929T130000
DTSTAMP:20260421T223822
CREATED:20260106T003358Z
LAST-MODIFIED:20260115T005519Z
UID:10000020-1790683200-1790686800@newlifeharvestchurch.org
SUMMARY:Faith Based Initiatives
DESCRIPTION:
URL:https://newlifeharvestchurch.org/event/faith-based-initiatives/2026-09-29/
LOCATION:VA
END:VEVENT
BEGIN:VEVENT
DTSTART;TZID=America/New_York:20261013T120000
DTEND;TZID=America/New_York:20261013T130000
DTSTAMP:20260421T223822
CREATED:20260106T003358Z
LAST-MODIFIED:20260115T005519Z
UID:10000021-1791892800-1791896400@newlifeharvestchurch.org
SUMMARY:Faith Based Initiatives
DESCRIPTION:
URL:https://newlifeharvestchurch.org/event/faith-based-initiatives/2026-10-13/
LOCATION:VA
END:VEVENT
BEGIN:VEVENT
DTSTART;TZID=America/New_York:20261027T120000
DTEND;TZID=America/New_York:20261027T130000
DTSTAMP:20260421T223822
CREATED:20260106T003358Z
LAST-MODIFIED:20260115T005519Z
UID:10000022-1793102400-1793106000@newlifeharvestchurch.org
SUMMARY:Faith Based Initiatives
DESCRIPTION:
URL:https://newlifeharvestchurch.org/event/faith-based-initiatives/2026-10-27/
LOCATION:VA
END:VEVENT
BEGIN:VEVENT
DTSTART;TZID=America/New_York:20261110T120000
DTEND;TZID=America/New_York:20261110T130000
DTSTAMP:20260421T223822
CREATED:20260106T003358Z
LAST-MODIFIED:20260115T005519Z
UID:10000023-1794312000-1794315600@newlifeharvestchurch.org
SUMMARY:Faith Based Initiatives
DESCRIPTION:
URL:https://newlifeharvestchurch.org/event/faith-based-initiatives/2026-11-10/
LOCATION:VA
END:VEVENT
BEGIN:VEVENT
DTSTART;TZID=America/New_York:20261124T120000
DTEND;TZID=America/New_York:20261124T130000
DTSTAMP:20260421T223822
CREATED:20260106T003358Z
LAST-MODIFIED:20260115T005519Z
UID:10000024-1795521600-1795525200@newlifeharvestchurch.org
SUMMARY:Faith Based Initiatives
DESCRIPTION:
URL:https://newlifeharvestchurch.org/event/faith-based-initiatives/2026-11-24/
LOCATION:VA
END:VEVENT
BEGIN:VEVENT
DTSTART;TZID=America/New_York:20261208T120000
DTEND;TZID=America/New_York:20261208T130000
DTSTAMP:20260421T223822
CREATED:20260106T003358Z
LAST-MODIFIED:20260115T005519Z
UID:10000025-1796731200-1796734800@newlifeharvestchurch.org
SUMMARY:Faith Based Initiatives
DESCRIPTION:
URL:https://newlifeharvestchurch.org/event/faith-based-initiatives/2026-12-08/
LOCATION:VA
END:VEVENT
BEGIN:VEVENT
DTSTART;TZID=America/New_York:20261222T120000
DTEND;TZID=America/New_York:20261222T130000
DTSTAMP:20260421T223822
CREATED:20260106T003358Z
LAST-MODIFIED:20260115T005519Z
UID:10000026-1797940800-1797944400@newlifeharvestchurch.org
SUMMARY:Faith Based Initiatives
DESCRIPTION:
URL:https://newlifeharvestchurch.org/event/faith-based-initiatives/2026-12-22/
LOCATION:VA
END:VEVENT
BEGIN:VEVENT
DTSTART;TZID=America/New_York:20270105T120000
DTEND;TZID=America/New_York:20270105T130000
DTSTAMP:20260421T223822
CREATED:20260106T003358Z
LAST-MODIFIED:20260115T005519Z
UID:10000027-1799150400-1799154000@newlifeharvestchurch.org
SUMMARY:Faith Based Initiatives
DESCRIPTION:
URL:https://newlifeharvestchurch.org/event/faith-based-initiatives/2027-01-05/
LOCATION:VA
END:VEVENT
BEGIN:VEVENT
DTSTART;TZID=America/New_York:20270119T120000
DTEND;TZID=America/New_York:20270119T130000
DTSTAMP:20260421T223822
CREATED:20260106T003358Z
LAST-MODIFIED:20260115T005519Z
UID:10000028-1800360000-1800363600@newlifeharvestchurch.org
SUMMARY:Faith Based Initiatives
DESCRIPTION:
URL:https://newlifeharvestchurch.org/event/faith-based-initiatives/2027-01-19/
LOCATION:VA
END:VEVENT
BEGIN:VEVENT
DTSTART;TZID=America/New_York:20270202T120000
DTEND;TZID=America/New_York:20270202T130000
DTSTAMP:20260421T223822
CREATED:20260106T003358Z
LAST-MODIFIED:20260115T005519Z
UID:10000029-1801569600-1801573200@newlifeharvestchurch.org
SUMMARY:Faith Based Initiatives
DESCRIPTION:
URL:https://newlifeharvestchurch.org/event/faith-based-initiatives/2027-02-02/
LOCATION:VA
END:VEVENT
BEGIN:VEVENT
DTSTART;TZID=America/New_York:20270216T120000
DTEND;TZID=America/New_York:20270216T130000
DTSTAMP:20260421T223822
CREATED:20260106T003358Z
LAST-MODIFIED:20260115T005519Z
UID:10000030-1802779200-1802782800@newlifeharvestchurch.org
SUMMARY:Faith Based Initiatives
DESCRIPTION:
URL:https://newlifeharvestchurch.org/event/faith-based-initiatives/2027-02-16/
LOCATION:VA
END:VEVENT
END:VCALENDAR