BEGIN:VCALENDAR
VERSION:2.0
PRODID:-//New Life Harvest Church - ECPv6.15.20//NONSGML v1.0//EN
CALSCALE:GREGORIAN
METHOD:PUBLISH
X-ORIGINAL-URL:https://newlifeharvestchurch.org
X-WR-CALDESC:Events for New Life Harvest Church
REFRESH-INTERVAL;VALUE=DURATION:PT1H
X-Robots-Tag:noindex
X-PUBLISHED-TTL:PT1H
BEGIN:VTIMEZONE
TZID:America/New_York
BEGIN:DAYLIGHT
TZOFFSETFROM:-0500
TZOFFSETTO:-0400
TZNAME:EDT
DTSTART:20250309T070000
END:DAYLIGHT
BEGIN:STANDARD
TZOFFSETFROM:-0400
TZOFFSETTO:-0500
TZNAME:EST
DTSTART:20251102T060000
END:STANDARD
BEGIN:DAYLIGHT
TZOFFSETFROM:-0500
TZOFFSETTO:-0400
TZNAME:EDT
DTSTART:20260308T070000
END:DAYLIGHT
BEGIN:STANDARD
TZOFFSETFROM:-0400
TZOFFSETTO:-0500
TZNAME:EST
DTSTART:20261101T060000
END:STANDARD
BEGIN:DAYLIGHT
TZOFFSETFROM:-0500
TZOFFSETTO:-0400
TZNAME:EDT
DTSTART:20270314T070000
END:DAYLIGHT
BEGIN:STANDARD
TZOFFSETFROM:-0400
TZOFFSETTO:-0500
TZNAME:EST
DTSTART:20271107T060000
END:STANDARD
END:VTIMEZONE
BEGIN:VEVENT
DTSTART;VALUE=DATE:20260403
DTEND;VALUE=DATE:20260405
DTSTAMP:20260421T122028
CREATED:20260315T123044Z
LAST-MODIFIED:20260315T123044Z
UID:10000134-1775174400-1775347199@newlifeharvestchurch.org
SUMMARY:World Federation Council of Churches Youth Conference 2026
DESCRIPTION:World Federation Council of Churches Youth Conference 2026 \nFriday Night Service – Youth Explosion!\n7:00PM – 9:00PM Doors open at 6:30PM \nSaturday Service\n3:00PM-5:00PM
URL:https://newlifeharvestchurch.org/event/world-federation-council-of-churches-youth-conference-2026/
LOCATION:Victory Theatre Center\, 7903 Midlothian Turnpike\, Richmond\, VA\, 23235\, United States
END:VEVENT
END:VCALENDAR